BEGIN:VCALENDAR
VERSION:2.0
PRODID:-//wp-events-plugin.com//7.2.3.1//EN
BEGIN:VEVENT
UID:317@zuiderlichtlelystad.nl
DTSTART:20260425T110000Z
DTEND:20260425T123000Z
DTSTAMP:20260106T185223Z
URL:https://zuiderlichtlelystad.nl/events/aardappelen-uitdelen-16/
SUMMARY:Aardappelen uitdelen
DESCRIPTION:Kom langs voor aardappelen en uien voor maar € 2\,-! Neem je 
 eigen tas mee en laat deze vullen met de producten. Blijf gezellig hangen 
 voor een praatje onder het genot van koffie\, thee en iets lekkers! We sta
 an buiten voor het Wijkcentrum.
ATTACH;FMTTYPE=image/jpeg:https://zuiderlichtlelystad.nl/wp-content/upload
 s/2024/08/2024-02-24-11.33.36-scaled.jpg
CATEGORIES:Aardappelen uitdelen
LOCATION:Wijkcentrum Zuiderzee\, Waddenlaan 1\, Lelystad\, Netherlands
X-APPLE-STRUCTURED-LOCATION;VALUE=URI;X-ADDRESS=Waddenlaan 1\, Lelystad\, N
 etherlands;X-APPLE-RADIUS=100;X-TITLE=Wijkcentrum Zuiderzee:geo:0,0
END:VEVENT
END:VCALENDAR