BEGIN:VCALENDAR
VERSION:2.0
PRODID:-//wp-events-plugin.com//7.2.3.1//EN
BEGIN:VEVENT
UID:93@zuiderlichtlelystad.nl
DTSTART:20240330T110000Z
DTEND:20240330T123000Z
DTSTAMP:20240325T165623Z
URL:https://zuiderlichtlelystad.nl/events/aardappelen-uitdelen/
SUMMARY:Aardappelen uitdelen
DESCRIPTION:Kom langs voor een gratis zak aardappelen en wat uien! Blijf ge
 zellig hangen voor een praatje onder het genot van koffie\, thee en iets l
 ekkers! We staan buiten voor het Wijkcentrum.
ATTACH;FMTTYPE=image/jpeg:https://zuiderlichtlelystad.nl/wp-content/upload
 s/2024/03/Aardappelen-uitdelen.jpg
CATEGORIES:Aardappelen uitdelen
LOCATION:Wijkcentrum Zuiderzee\, Waddenlaan 1\, Lelystad\, Netherlands
X-APPLE-STRUCTURED-LOCATION;VALUE=URI;X-ADDRESS=Waddenlaan 1\, Lelystad\, N
 etherlands;X-APPLE-RADIUS=100;X-TITLE=Wijkcentrum Zuiderzee:geo:0,0
END:VEVENT
END:VCALENDAR