BEGIN:VCALENDAR
VERSION:2.0
PRODID:-//wp-events-plugin.com//7.2.3.1//EN
BEGIN:VEVENT
UID:286@zuiderlichtlelystad.nl
DTSTART:20260423T100000Z
DTEND:20260423T130000Z
DTSTAMP:20260106T184532Z
URL:https://zuiderlichtlelystad.nl/events/inloop-2-2026-03-05-2026-03-12-2
 026-03-19-2026-03-26-2026-04-02-2026-04-09-2026-04-16-2026-04-23/
SUMMARY:Inloop
DESCRIPTION:Geniet van een gezellige inloopochtend in wijkcentrum Zuiderzee
  met koffie\, thee\, spelletjes\, knutselen\, etc. We sluiten de ochtend a
 f met een eenvoudige lunch.
ATTACH;FMTTYPE=image/jpeg:https://zuiderlichtlelystad.nl/wp-content/upload
 s/2024/03/Inloop-bijsnijden.jpg
LOCATION:Wijkcentrum Zuiderzee\, Waddenlaan 1\, Lelystad\, Netherlands
X-APPLE-STRUCTURED-LOCATION;VALUE=URI;X-ADDRESS=Waddenlaan 1\, Lelystad\, N
 etherlands;X-APPLE-RADIUS=100;X-TITLE=Wijkcentrum Zuiderzee:geo:0,0
END:VEVENT
END:VCALENDAR