BEGIN:VCALENDAR
VERSION:2.0
PRODID:-//wp-events-plugin.com//7.2.3.1//EN
BEGIN:VEVENT
UID:312@zuiderlichtlelystad.nl
DTSTART:20260516T101500Z
DTEND:20260516T114500Z
DTSTAMP:20260106T184856Z
URL:https://zuiderlichtlelystad.nl/events/kinderbijbelclub-3-2026-05-09-20
 26-05-16/
SUMMARY:KinderBijbelClub
DESCRIPTION:Voor alle kinderen van de basisschool. We gaan met elkaar zinge
 n\, kijken naar een toneelstukje\, luisteren naar een verhaal uit de Bijbe
 l en knutselen of voetballen.
ATTACH;FMTTYPE=image/jpeg:https://zuiderlichtlelystad.nl/wp-content/upload
 s/2024/03/KinderBijbelClub.jpg
CATEGORIES:KinderBijbelClub
LOCATION:Wijkcentrum Zuiderzee\, Waddenlaan 1\, Lelystad\, Netherlands
X-APPLE-STRUCTURED-LOCATION;VALUE=URI;X-ADDRESS=Waddenlaan 1\, Lelystad\, N
 etherlands;X-APPLE-RADIUS=100;X-TITLE=Wijkcentrum Zuiderzee:geo:0,0
END:VEVENT
END:VCALENDAR