BEGIN:VCALENDAR
VERSION:2.0
PRODID:-//wp-events-plugin.com//7.2.3.1//EN
BEGIN:VEVENT
UID:261@zuiderlichtlelystad.nl
DTSTART:20260807T100000Z
DTEND:20260807T120000Z
DTSTAMP:20260106T184344Z
URL:https://zuiderlichtlelystad.nl/events/vrouwenochtend-2026-01-09-2026-0
 1-23-2026-02-06-2026-02-20-2026-03-06-2026-03-20-2026-04-03-2026-04-17-202
 6-05-01-2026-05-15-2026-05-29-2026-06-12-2026-06-26-2026-07-10-2026-07-24-
 2026-08-07/
SUMMARY:Vrouwenochtend
DESCRIPTION:Een gezellige ochtend voor vrouwen.
ATTACH;FMTTYPE=image/jpeg:https://zuiderlichtlelystad.nl/wp-content/upload
 s/2024/03/vrouwengroep.jpg
CATEGORIES:Vrouwenochtend
LOCATION:Wijkcentrum Zuiderzee\, Waddenlaan 1\, Lelystad\, Netherlands
X-APPLE-STRUCTURED-LOCATION;VALUE=URI;X-ADDRESS=Waddenlaan 1\, Lelystad\, N
 etherlands;X-APPLE-RADIUS=100;X-TITLE=Wijkcentrum Zuiderzee:geo:0,0
END:VEVENT
END:VCALENDAR